BEGIN:VCALENDAR
VERSION:2.0
PRODID:-//wp-events-plugin.com//7.2.3.1//EN
TZID:Europe/Paris
X-WR-TIMEZONE:Europe/Paris
BEGIN:VEVENT
UID:3844@agenda24.fr
DTSTART;TZID=Europe/Paris:20241109T160000
DTEND;TZID=Europe/Paris:20241109T160000
DTSTAMP:20241030T085702Z
URL:https://agenda24.fr/evenements/spectacle-musical-ensemble-cie-la-gamme
 /
SUMMARY:Spectacle musical Ensemble cie La Gamme
DESCRIPTION:
CATEGORIES:Dédié aux enfants
LOCATION:Bibliothèque - Médiathèque\, 3 Place du Champ de Foire\, Thivie
 rs\, France
GEO:45.4153067;0.9189233
X-APPLE-STRUCTURED-LOCATION;VALUE=URI;X-ADDRESS=3 Place du Champ de Foire\,
  Thiviers\, France;X-APPLE-RADIUS=100;X-TITLE=Bibliothèque - Médiathèqu
 e:geo:45.4153067,0.9189233
END:VEVENT
BEGIN:VTIMEZONE
TZID:Europe/Paris
X-LIC-LOCATION:Europe/Paris
BEGIN:STANDARD
DTSTART:20241027T020000
TZOFFSETFROM:+0200
TZOFFSETTO:+0100
TZNAME:CET
END:STANDARD
END:VTIMEZONE
END:VCALENDAR