BEGIN:VCALENDAR
VERSION:2.0
PRODID:-//wp-events-plugin.com//7.2.3.1//EN
TZID:Europe/Paris
X-WR-TIMEZONE:Europe/Paris
BEGIN:VEVENT
UID:9738@agenda24.fr
DTSTART;TZID=Europe/Paris:20251115T103000
DTEND;TZID=Europe/Paris:20251115T110000
DTSTAMP:20251101T090451Z
URL:https://agenda24.fr/evenements/spectacle-musical-comme-un-posson-dans-
 leau/
SUMMARY:Spectacle musical "Comme un posson dans l'eau"
DESCRIPTION:Spectacle musical de 6 mois à 5 ans.\n12€ par duo parent-enf
 ant. 
CATEGORIES:Spectacle
LOCATION:Salle des fêtes\, Salle des fêtes\, Bourdeilles\, France
GEO:45.323881;0.58551999
X-APPLE-STRUCTURED-LOCATION;VALUE=URI;X-ADDRESS=Salle des fêtes\, Bourdeil
 les\, France;X-APPLE-RADIUS=100;X-TITLE=Salle des fêtes:geo:45.323881,0.5
 8551999
END:VEVENT
BEGIN:VTIMEZONE
TZID:Europe/Paris
X-LIC-LOCATION:Europe/Paris
BEGIN:STANDARD
DTSTART:20251026T020000
TZOFFSETFROM:+0200
TZOFFSETTO:+0100
TZNAME:CET
END:STANDARD
END:VTIMEZONE
END:VCALENDAR