BEGIN:VCALENDAR
VERSION:2.0
PRODID:-//wp-events-plugin.com//7.2.3.1//EN
TZID:Europe/Paris
X-WR-TIMEZONE:Europe/Paris
BEGIN:VEVENT
UID:9697@agenda24.fr
DTSTART;TZID=Europe/Paris:20251125T193000
DTEND;TZID=Europe/Paris:20251125T193000
DTSTAMP:20251101T090447Z
URL:https://agenda24.fr/evenements/spectacle-mark-simmons-jest-to-impress/
SUMMARY:Spectacle | Mark Simmons - Jest to impress
DESCRIPTION:Mark is back on tour with "Jest To Impress"\, a brand new show 
 packed with even more expertly crafted one-liners\, alonside his trademark
  off-the-cuff jokes based on random audience suggestions.\nWinner Dave's F
 unniest Joke of the Fringe 2024.\nAs seen on Mock The Week\, BT Sport and 
 ITV\, Master of one-liners' Mark Simmons had a groundbreaking 200+ date se
 ll ou debut tour lasting 2 years\, spanning the UK\, Ireland\, Australia\,
  and New Zealand.\n\nÀ partir de 14 ans.\nProposé par l'Association Arti
 scena.\nSpectacle en anglais.\nBilletterie disponible à l'Office de Touri
 sme.
CATEGORIES:Spectacle
LOCATION:L'Eden\, 27 Avenue de la Bastide\, Eymet\, France
GEO:44.6687489;0.39767359
X-APPLE-STRUCTURED-LOCATION;VALUE=URI;X-ADDRESS=27 Avenue de la Bastide\, E
 ymet\, France;X-APPLE-RADIUS=100;X-TITLE=L'Eden:geo:44.6687489,0.39767359
END:VEVENT
BEGIN:VTIMEZONE
TZID:Europe/Paris
X-LIC-LOCATION:Europe/Paris
BEGIN:STANDARD
DTSTART:20251026T020000
TZOFFSETFROM:+0200
TZOFFSETTO:+0100
TZNAME:CET
END:STANDARD
END:VTIMEZONE
END:VCALENDAR