BEGIN:VCALENDAR
VERSION:2.0
PRODID:-//wp-events-plugin.com//7.2.3.1//EN
TZID:Europe/Paris
X-WR-TIMEZONE:Europe/Paris
BEGIN:VEVENT
UID:5307@agenda24.fr
DTSTART;TZID=Europe/Paris:20250313T203000
DTEND;TZID=Europe/Paris:20250313T223000
DTSTAMP:20250213T102942Z
URL:https://agenda24.fr/evenements/spectacle-marilyn/
SUMMARY:Spectacle – Marilyn
DESCRIPTION:Théâtre musical\nTout public.\nDans les deux mois avant sa mo
 rt\, en juin et juillet 1962\, Marilyn Monroe enregistre presque chaque jo
 ur une confession intime destinée à son psychiatre\, le docteur Greenson
 . C’est cette intimité que le spectacle met en scène\, Marilyn\, accom
 pagnée par deux musiciens au piano et à la contrebasse\, revient sur les
  36 ans d’un\nparcours chaotique et paradoxal. Marilyn Monroe semble irr
 adier à la fois la joie\, une énergie presque enfantine\, en même temps
  qu’une provocation sexuelle très élaborée. Mais dans le même temps\
 , alors que le message se veut simple\, direct\, voire naïf\, quelque cho
 se tremble\, comme légèrement décalé. Plus on regarde ses photos\, il 
 y en a des milliers\, plus s’allongent les ombres et s’installe entre 
 le sujet et le regardeur quelque chose de plus complexe\, un mystère et u
 ne mélancolie en demi-teinte.
CATEGORIES:Spectacle
LOCATION:Auditorium Espace François Mitterrand\, 23 Boulevard Henri Sicard
 \, Bergerac\, France
GEO:44.8449144;0.48019150
X-APPLE-STRUCTURED-LOCATION;VALUE=URI;X-ADDRESS=23 Boulevard Henri Sicard\,
  Bergerac\, France;X-APPLE-RADIUS=100;X-TITLE=Auditorium Espace François 
 Mitterrand:geo:44.8449144,0.48019150
END:VEVENT
BEGIN:VTIMEZONE
TZID:Europe/Paris
X-LIC-LOCATION:Europe/Paris
BEGIN:STANDARD
DTSTART:20241027T020000
TZOFFSETFROM:+0200
TZOFFSETTO:+0100
TZNAME:CET
END:STANDARD
END:VTIMEZONE
END:VCALENDAR