BEGIN:VCALENDAR
VERSION:2.0
PRODID:-//wp-events-plugin.com//7.2.3.1//EN
TZID:Europe/Paris
X-WR-TIMEZONE:Europe/Paris
BEGIN:VEVENT
UID:5276@agenda24.fr
DTSTART;TZID=Europe/Paris:20250228T110000
DTEND;TZID=Europe/Paris:20250228T110000
DTSTAMP:20250213T103003Z
URL:https://agenda24.fr/evenements/spectacle-les-zeboulis/
SUMMARY:Spectacle – Les Zéboulis
DESCRIPTION:Danse jeune public pour la toute petite enfance \nDurée 30 min
 utes\n\nLES ZEBOULIS\n\nEn route pour une aventure destinée à la toute p
 etite enfance (RAM\, familles\, assistante maternelle).\n\nUne installatio
 n performative et interactive pour une première rencontre avec la danse\,
  la musique et design.\n\nSpectacle soutenu et organisé avec l'Agence Cul
 turelle départementale Dordogne-Périgord dans le cadre du programme déd
 ié à la jeunesse SPRING
CATEGORIES:Spectacle
LOCATION:Le Séchoir d'Aillac\, 80 Pl. Haute\, Carsac-Aillac\, France
GEO:44.8424320;1.3010670
X-APPLE-STRUCTURED-LOCATION;VALUE=URI;X-ADDRESS=80 Pl. Haute\, Carsac-Ailla
 c\, France;X-APPLE-RADIUS=100;X-TITLE=Le Séchoir d'Aillac:geo:44.8424320,
 1.3010670
END:VEVENT
BEGIN:VTIMEZONE
TZID:Europe/Paris
X-LIC-LOCATION:Europe/Paris
BEGIN:STANDARD
DTSTART:20241027T020000
TZOFFSETFROM:+0200
TZOFFSETTO:+0100
TZNAME:CET
END:STANDARD
END:VTIMEZONE
END:VCALENDAR