BEGIN:VCALENDAR
VERSION:2.0
PRODID:-//wp-events-plugin.com//7.2.3.1//EN
TZID:Europe/Paris
X-WR-TIMEZONE:Europe/Paris
BEGIN:VEVENT
UID:11869@agenda24.fr
DTSTART;TZID=Europe/Paris:20260318T150000
DTEND;TZID=Europe/Paris:20260318T150000
DTSTAMP:20260301T135836Z
URL:https://agenda24.fr/evenements/spectacle-le-vol-du-condor/
SUMMARY:Spectacle | Le Vol du Condor
DESCRIPTION:Fitour voyages vous propose son spectacle annuel.\nVenez profit
 ez d'un spectacle danse\, musique\, chant et narration.\nLe Vol du Condor 
 est un spectacle immersif qui fait voyager le public à travers la cordill
 ère des Andes et le coeur vivant de l'ancien Empire Inca.\nEquipes FITOUR
  présentes sur place . 
CATEGORIES:Spectacle
LOCATION:Espace étincelle\, 1 Allée Lucien Videau\, Bergerac\, France
GEO:44.8461935;0.4984079
X-APPLE-STRUCTURED-LOCATION;VALUE=URI;X-ADDRESS=1 Allée Lucien Videau\, Be
 rgerac\, France;X-APPLE-RADIUS=100;X-TITLE=Espace étincelle:geo:44.846193
 5,0.4984079
END:VEVENT
BEGIN:VTIMEZONE
TZID:Europe/Paris
X-LIC-LOCATION:Europe/Paris
BEGIN:STANDARD
DTSTART:20251026T020000
TZOFFSETFROM:+0200
TZOFFSETTO:+0100
TZNAME:CET
END:STANDARD
END:VTIMEZONE
END:VCALENDAR