BEGIN:VCALENDAR
VERSION:2.0
PRODID:-//wp-events-plugin.com//7.2.3.1//EN
TZID:Europe/Paris
X-WR-TIMEZONE:Europe/Paris
BEGIN:VEVENT
UID:11670@agenda24.fr
DTSTART;TZID=Europe/Paris:20260304T160000
DTEND;TZID=Europe/Paris:20260304T163000
DTSTAMP:20260227T125554Z
URL:https://agenda24.fr/evenements/spectacle-le-bal-des-doudous-cie-lou-po
 p-2/
SUMMARY:Spectacle " Le bal des doudous" | Cie Lou Pop
DESCRIPTION:Par la Compagnie Lou Pop \n\n&nbsp\;\n\nParce que les touts pe
 tits ont aussi le droit de découvrir de jolis spectacles\, toute l’équ
 ipe de BriKaBrak est heureuse de vous proposer un  concert cocooning qui 
 va faire danser les doudous! \n\nAprès son premier spectacle "Desnonimo"
  que nous avions programmé (et adoré !) au Festival BKB 2023\, Louise To
 ssut revient accompagnée sur scène par la musicienne Janine Terhoff. Ell
 es invitent les enfants à un voyage musical autour d’un objet qui nous 
 est cher à tous : le Doudou. Une bulle musicale et poétique à vivre au 
 creux de l’oreille et du cœur !\n\n&nbsp\;\n\n“Les doudous se mettent
  en scène ! \n\nC’est le moment d’embarquer Doudou pour le bal\, d
 ’ouvrir grands les oreilles\, les yeux et se laisser entraîner par la m
 usique.  \n\nDe la berceuse au disco\, du doudou farceur au doudou confi
 dent\,  on plongera dans les émotions que l’on découvre depuis notre 
 enfance.”\n\n&nbsp\;\n\nEn partenariat avec l’association La Petite Ma
 ison Au Bugue\, dans le cadre du programme SPRING\, un programme culture e
 t jeunesse coordonné par l’Agence culturelle départementale Dordogne-P
 érigord
CATEGORIES:Concert,Dédié aux enfants,Spectacle
LOCATION:Médiathèque Gérard Fayolle\, Rue du jardin public\, Le bugue\, 
 Dordogne\, 24260\, Nouvelle Aquitaine\, France
X-APPLE-STRUCTURED-LOCATION;VALUE=URI;X-ADDRESS=Rue du jardin public\, Le b
 ugue\, Dordogne\, 24260\, Nouvelle Aquitaine\, France;X-APPLE-RADIUS=100;X
 -TITLE=Médiathèque Gérard Fayolle:geo:0,0
END:VEVENT
BEGIN:VTIMEZONE
TZID:Europe/Paris
X-LIC-LOCATION:Europe/Paris
BEGIN:STANDARD
DTSTART:20251026T020000
TZOFFSETFROM:+0200
TZOFFSETTO:+0100
TZNAME:CET
END:STANDARD
END:VTIMEZONE
END:VCALENDAR