BEGIN:VCALENDAR
VERSION:2.0
PRODID:-//wp-events-plugin.com//7.2.3.1//EN
TZID:Europe/Paris
X-WR-TIMEZONE:Europe/Paris
BEGIN:VEVENT
UID:9736@agenda24.fr
DTSTART;TZID=Europe/Paris:20251214T160000
DTEND;TZID=Europe/Paris:20251214T160000
DTSTAMP:20251101T090450Z
URL:https://agenda24.fr/evenements/spectacle-la-folie-des-glandeurs/
SUMMARY:Spectacle « la folie des glandeurs »
DESCRIPTION:Dimanche 14 décembre à 16h\, la salle des fêtes de Monpazier
  accueillera la 900ème représentation du spectacle humoristique « La Fo
 lie des Glandeurs » qui connaît le succès depuis 15 ans !\n \nLe pitch 
 : \nEmbauchés dans un théâtre pour faire le ménage\, Néné et Bichoko
  sont gagnés par « la folie des glandeurs » : ils ont le rêve fou de d
 evenir comédiens ! Il est vrai que jusqu'ici ils ont tout réussi... à p
 art l'école\, le boulot\, l'argent et l'amour ! De maladresses en gaffes\
 , le chemin de la gloire pourrait bien les conduire tout droit chez Pôle 
 Emploi...\n \nUn spectacle à voir\, de 8 à 108 ans…\nPour Télérama\,
  voilà « Deux losers sympathiques. On aime la drôlerie des mimiques\, l
 'absurdité des propos et l'efficacité ravageuse du comique de répétiti
 on ». « C'est absurde et percutant. À voir absolument ! » selon La Mar
 seillaise. Quant à La Montagne\, elle promet « Une avalanche de rires ! 
 ».
CATEGORIES:Spectacle
LOCATION:Salle des fêtes\, Salle des fêtes\, Monpazier\, France
GEO:44.6849202;0.89382962
X-APPLE-STRUCTURED-LOCATION;VALUE=URI;X-ADDRESS=Salle des fêtes\, Monpazie
 r\, France;X-APPLE-RADIUS=100;X-TITLE=Salle des fêtes:geo:44.6849202,0.89
 382962
END:VEVENT
BEGIN:VTIMEZONE
TZID:Europe/Paris
X-LIC-LOCATION:Europe/Paris
BEGIN:STANDARD
DTSTART:20251026T020000
TZOFFSETFROM:+0200
TZOFFSETTO:+0100
TZNAME:CET
END:STANDARD
END:VTIMEZONE
END:VCALENDAR