BEGIN:VCALENDAR
VERSION:2.0
PRODID:-//wp-events-plugin.com//7.2.3.1//EN
TZID:Europe/Paris
X-WR-TIMEZONE:Europe/Paris
BEGIN:VEVENT
UID:4479@agenda24.fr
DTSTART;TZID=Europe/Paris:20241215T150000
DTEND;TZID=Europe/Paris:20241215T150000
DTSTAMP:20241214T154051Z
URL:https://agenda24.fr/evenements/spectacle-la-dompteuse-de-bulles-2/
SUMMARY:Spectacle - la dompteuse de bulles
DESCRIPTION:
CATEGORIES:Spectacle
LOCATION:Dordonha\, Place de la Petite Mission\, Bergerac\, France
GEO:44.8528770;0.4818831
X-APPLE-STRUCTURED-LOCATION;VALUE=URI;X-ADDRESS=Place de la Petite Mission\
 , Bergerac\, France;X-APPLE-RADIUS=100;X-TITLE=Dordonha:geo:44.8528770,0.4
 818831
END:VEVENT
BEGIN:VTIMEZONE
TZID:Europe/Paris
X-LIC-LOCATION:Europe/Paris
BEGIN:STANDARD
DTSTART:20241027T020000
TZOFFSETFROM:+0200
TZOFFSETTO:+0100
TZNAME:CET
END:STANDARD
END:VTIMEZONE
END:VCALENDAR