BEGIN:VCALENDAR
VERSION:2.0
PRODID:-//wp-events-plugin.com//7.2.3.1//EN
TZID:Europe/Paris
X-WR-TIMEZONE:Europe/Paris
BEGIN:VEVENT
UID:4490@agenda24.fr
DTSTART;TZID=Europe/Paris:20241219T203000
DTEND;TZID=Europe/Paris:20241219T203000
DTSTAMP:20241214T154051Z
URL:https://agenda24.fr/evenements/spectacle-impact/
SUMMARY:Spectacle – Impact
DESCRIPTION:
CATEGORIES:Spectacle
LOCATION:Salle culturelle Le Nantholia\, Les Grésilles\, Nantheuil\, Franc
 e
GEO:45.4140510;0.9379740
X-APPLE-STRUCTURED-LOCATION;VALUE=URI;X-ADDRESS=Les Grésilles\, Nantheuil\
 , France;X-APPLE-RADIUS=100;X-TITLE=Salle culturelle Le Nantholia:geo:45.4
 140510,0.9379740
END:VEVENT
BEGIN:VTIMEZONE
TZID:Europe/Paris
X-LIC-LOCATION:Europe/Paris
BEGIN:STANDARD
DTSTART:20241027T020000
TZOFFSETFROM:+0200
TZOFFSETTO:+0100
TZNAME:CET
END:STANDARD
END:VTIMEZONE
END:VCALENDAR