BEGIN:VCALENDAR
VERSION:2.0
PRODID:-//wp-events-plugin.com//7.2.3.1//EN
TZID:Europe/Paris
X-WR-TIMEZONE:Europe/Paris
BEGIN:VEVENT
UID:5305@agenda24.fr
DTSTART;TZID=Europe/Paris:20250305T170000
DTEND;TZID=Europe/Paris:20250305T170000
DTSTAMP:20250213T102953Z
URL:https://agenda24.fr/evenements/spectacle-gyraf/
SUMMARY:Spectacle – Gyraf
DESCRIPTION:Gyraph \, la goutte d'eau \nle 4 et le 5 mars 2025 \n5 euros à
  l'atrium de Vergt\nréservation au 06.24.70.73.71
CATEGORIES:Spectacle
LOCATION:3 Place Charles Mangold\, 3 Place Charles Mangold\, Vergt\, France
GEO:45.02612;0.71911
X-APPLE-STRUCTURED-LOCATION;VALUE=URI;X-ADDRESS=3 Place Charles Mangold\, V
 ergt\, France;X-APPLE-RADIUS=100;X-TITLE=3 Place Charles Mangold:geo:45.02
 612,0.71911
END:VEVENT
BEGIN:VTIMEZONE
TZID:Europe/Paris
X-LIC-LOCATION:Europe/Paris
BEGIN:STANDARD
DTSTART:20241027T020000
TZOFFSETFROM:+0200
TZOFFSETTO:+0100
TZNAME:CET
END:STANDARD
END:VTIMEZONE
END:VCALENDAR