BEGIN:VCALENDAR
VERSION:2.0
PRODID:-//wp-events-plugin.com//7.2.3.1//EN
TZID:Europe/Paris
X-WR-TIMEZONE:Europe/Paris
BEGIN:VEVENT
UID:9735@agenda24.fr
DTSTART;TZID=Europe/Paris:20251205T203000
DTEND;TZID=Europe/Paris:20251205T220000
DTSTAMP:20251101T090450Z
URL:https://agenda24.fr/evenements/spectacle-felix-dhjan/
SUMMARY:Spectacle – Félix Dhjan
DESCRIPTION:Humour\nTout public\nDurée : 1h30\n\nFélix Dhjan se joue du m
 onde moderne avec un style très singulier un subtil mélange de rire et d
 e réflexion sur des sujets aussi profonds que décalés.\nEst-ce qu’on 
 était aussi complexé avant l’invention du miroir ?\nPourquoi le bonheu
 r des autres nous met-il face à notre propre misère ? Entre pompier et t
 rader… c’est quoi finalement être un mec bien ? Et du chimpanzé à E
 lon Musk… en quoi avons-nous progressé ? Raciste ou Antiraciste ? Fémi
 niste ou Misogyne ? Pro-Vax ou Anti-Vax ? Pourquoi sommes-nous devenus si 
 binaires ? Entre thèmes de fond\, une gestuelle unique et improvisation\,
  le tout sublimé par une aisance scénique déconcertante\, Félix débar
 que avec un spectacle cru\, authentique et hilarant.\nFélix a fait ses ar
 mes au Jamel Comedy Club\, et en tant que chroniqueur sur Rire et Chansons
 .
CATEGORIES:Spectacle
LOCATION:Centre Culturel Michel Manet\, Place Gambetta\, Bergerac\, France
GEO:44.8545302;0.48230426
X-APPLE-STRUCTURED-LOCATION;VALUE=URI;X-ADDRESS=Place Gambetta\, Bergerac\,
  France;X-APPLE-RADIUS=100;X-TITLE=Centre Culturel Michel Manet:geo:44.854
 5302,0.48230426
END:VEVENT
BEGIN:VTIMEZONE
TZID:Europe/Paris
X-LIC-LOCATION:Europe/Paris
BEGIN:STANDARD
DTSTART:20251026T020000
TZOFFSETFROM:+0200
TZOFFSETTO:+0100
TZNAME:CET
END:STANDARD
END:VTIMEZONE
END:VCALENDAR