BEGIN:VCALENDAR
VERSION:2.0
PRODID:-//wp-events-plugin.com//7.2.3.1//EN
TZID:Europe/Paris
X-WR-TIMEZONE:Europe/Paris
BEGIN:VEVENT
UID:10357@agenda24.fr
DTSTART;TZID=Europe/Paris:20251220T160000
DTEND;TZID=Europe/Paris:20251220T160000
DTSTAMP:20251210T135536Z
URL:https://agenda24.fr/evenements/spectacle-de-noel-pour-enfants-allumett
 e-de-tomi-ungerer/
SUMMARY:Spectacle de Noël pour enfants: Allumette de Tomi Ungerer
DESCRIPTION:L'Office de la culture de domme\, en partenariat avec la munici
 palité vous offre un spectacle de Noël pour enfants samedi 20 décembre\
 , sale de la Rode à 16h\nLa compagnie Au temps pour moi présente "Allume
 tte" de Tomi Ungerer\nEntrée Gratuite\nocd.domme24@gmail.com\n06 02 20 04
  98
CATEGORIES:Spectacle
LOCATION:Salle de la rode\, Salle de la rode\, Domme\, France
GEO:44.801305;1.217048
X-APPLE-STRUCTURED-LOCATION;VALUE=URI;X-ADDRESS=Salle de la rode\, Domme\, 
 France;X-APPLE-RADIUS=100;X-TITLE=Salle de la rode:geo:44.801305,1.217048
END:VEVENT
BEGIN:VTIMEZONE
TZID:Europe/Paris
X-LIC-LOCATION:Europe/Paris
BEGIN:STANDARD
DTSTART:20251026T020000
TZOFFSETFROM:+0200
TZOFFSETTO:+0100
TZNAME:CET
END:STANDARD
END:VTIMEZONE
END:VCALENDAR