BEGIN:VCALENDAR
VERSION:2.0
PRODID:-//wp-events-plugin.com//7.2.3.1//EN
TZID:Europe/Paris
X-WR-TIMEZONE:Europe/Paris
BEGIN:VEVENT
UID:10351@agenda24.fr
DTSTART;TZID=Europe/Paris:20251218T100000
DTEND;TZID=Europe/Paris:20251218T100000
DTSTAMP:20251210T135536Z
URL:https://agenda24.fr/evenements/spectacle-de-noel-4/
SUMMARY:Spectacle de Noël
DESCRIPTION:Spectacle de Noël à 10h\, salle culturelle. \nTél: 05 53 81 
 33 62. SPE\n
CATEGORIES:Spectacle
LOCATION:Villamblard\, Villamblard\, Villamblard\, France
GEO:45.0234183;0.54117679
X-APPLE-STRUCTURED-LOCATION;VALUE=URI;X-ADDRESS=Villamblard\, Villamblard\,
  France;X-APPLE-RADIUS=100;X-TITLE=Villamblard:geo:45.0234183,0.54117679
END:VEVENT
BEGIN:VTIMEZONE
TZID:Europe/Paris
X-LIC-LOCATION:Europe/Paris
BEGIN:STANDARD
DTSTART:20251026T020000
TZOFFSETFROM:+0200
TZOFFSETTO:+0100
TZNAME:CET
END:STANDARD
END:VTIMEZONE
END:VCALENDAR