BEGIN:VCALENDAR
VERSION:2.0
PRODID:-//wp-events-plugin.com//7.2.3.1//EN
TZID:Europe/Paris
X-WR-TIMEZONE:Europe/Paris
BEGIN:VEVENT
UID:4481@agenda24.fr
DTSTART;TZID=Europe/Paris:20241223T150000
DTEND;TZID=Europe/Paris:20241223T150000
DTSTAMP:20241214T154059Z
URL:https://agenda24.fr/evenements/spectacle-de-noel-3/
SUMMARY:Spectacle de Noël
DESCRIPTION:
CATEGORIES:Spectacle
LOCATION:Place de la République\, Place de la République\, Thiviers\, Fra
 nce
GEO:45.4159641;0.91992174
X-APPLE-STRUCTURED-LOCATION;VALUE=URI;X-ADDRESS=Place de la République\, T
 hiviers\, France;X-APPLE-RADIUS=100;X-TITLE=Place de la République:geo:45
 .4159641,0.91992174
END:VEVENT
BEGIN:VTIMEZONE
TZID:Europe/Paris
X-LIC-LOCATION:Europe/Paris
BEGIN:STANDARD
DTSTART:20241027T020000
TZOFFSETFROM:+0200
TZOFFSETTO:+0100
TZNAME:CET
END:STANDARD
END:VTIMEZONE
END:VCALENDAR