BEGIN:VCALENDAR
VERSION:2.0
PRODID:-//wp-events-plugin.com//7.2.3.1//EN
TZID:Europe/Paris
X-WR-TIMEZONE:Europe/Paris
BEGIN:VEVENT
UID:4492@agenda24.fr
DTSTART;TZID=Europe/Paris:20241215T143000
DTEND;TZID=Europe/Paris:20241215T143000
DTSTAMP:20241214T154051Z
URL:https://agenda24.fr/evenements/spectacle-de-noel-2/
SUMMARY:Spectacle de Noël
DESCRIPTION:
CATEGORIES:Spectacle
LOCATION:Salle des fêtes\, Salle des fêtes\, Saint-Capraise-de-Lalinde\, 
 France
GEO:44.84183;0.65358
X-APPLE-STRUCTURED-LOCATION;VALUE=URI;X-ADDRESS=Salle des fêtes\, Saint-Ca
 praise-de-Lalinde\, France;X-APPLE-RADIUS=100;X-TITLE=Salle des fêtes:geo
 :44.84183,0.65358
END:VEVENT
BEGIN:VTIMEZONE
TZID:Europe/Paris
X-LIC-LOCATION:Europe/Paris
BEGIN:STANDARD
DTSTART:20241027T020000
TZOFFSETFROM:+0200
TZOFFSETTO:+0100
TZNAME:CET
END:STANDARD
END:VTIMEZONE
END:VCALENDAR