BEGIN:VCALENDAR
VERSION:2.0
PRODID:-//wp-events-plugin.com//7.2.3.1//EN
TZID:Europe/Paris
X-WR-TIMEZONE:Europe/Paris
BEGIN:VEVENT
UID:10347@agenda24.fr
DTSTART;TZID=Europe/Paris:20251214T150000
DTEND;TZID=Europe/Paris:20251214T150000
DTSTAMP:20251210T135536Z
URL:https://agenda24.fr/evenements/spectacle-de-magie/
SUMMARY:Spectacle de Magie
DESCRIPTION:Fêtons Noël ensemble avec un spectacle de magie pour petits e
 t grands.\nOuvert à tous (poussins\, cadets\, séniors\, vétérans!)\nDi
 manche 14 décembre à la Salle des fêtes de Finsac\nSuivi d'une collatio
 n festive et friandises \nOfferte par la municipalité de Castels et Béze
 nac\nInscription souhaitée au 06 11 76 00 29 ou amicaledecastelsetbezenac
 @gmail.com
CATEGORIES:Spectacle
LOCATION:Salle des fêtes de Finsac\, Salle des fêtes de Finsac\, Castels\
 , France
GEO:44.871768;1.051877
X-APPLE-STRUCTURED-LOCATION;VALUE=URI;X-ADDRESS=Salle des fêtes de Finsac\
 , Castels\, France;X-APPLE-RADIUS=100;X-TITLE=Salle des fêtes de Finsac:g
 eo:44.871768,1.051877
END:VEVENT
BEGIN:VTIMEZONE
TZID:Europe/Paris
X-LIC-LOCATION:Europe/Paris
BEGIN:STANDARD
DTSTART:20251026T020000
TZOFFSETFROM:+0200
TZOFFSETTO:+0100
TZNAME:CET
END:STANDARD
END:VTIMEZONE
END:VCALENDAR