BEGIN:VCALENDAR
VERSION:2.0
PRODID:-//wp-events-plugin.com//7.2.3.1//EN
TZID:Europe/Paris
X-WR-TIMEZONE:Europe/Paris
BEGIN:VEVENT
UID:5285@agenda24.fr
DTSTART;TZID=Europe/Paris:20250314T203000
DTEND;TZID=Europe/Paris:20250314T203000
DTSTAMP:20250213T103002Z
URL:https://agenda24.fr/evenements/spectacle-de-danse-vendredi-13/
SUMMARY:Spectacle de danse – Vendredi 13
DESCRIPTION:Spectacle de danse "Vendredi 13" par la Cie Coeur en corps à 2
 0h30 salle Le Lascaux au profit des associations caritatives - 06 07 87 81
  78
CATEGORIES:Spectacle
LOCATION:Salle Le Lascaux\, Salle Le Lascaux\, Montpon-Ménestérol\, Franc
 e
GEO:45.0090720;0.15946316
X-APPLE-STRUCTURED-LOCATION;VALUE=URI;X-ADDRESS=Salle Le Lascaux\, Montpon-
 Ménestérol\, France;X-APPLE-RADIUS=100;X-TITLE=Salle Le Lascaux:geo:45.0
 090720,0.15946316
END:VEVENT
BEGIN:VTIMEZONE
TZID:Europe/Paris
X-LIC-LOCATION:Europe/Paris
BEGIN:STANDARD
DTSTART:20241027T020000
TZOFFSETFROM:+0200
TZOFFSETTO:+0100
TZNAME:CET
END:STANDARD
END:VTIMEZONE
END:VCALENDAR