BEGIN:VCALENDAR
VERSION:2.0
PRODID:-//wp-events-plugin.com//7.2.3.1//EN
TZID:Europe/Paris
X-WR-TIMEZONE:Europe/Paris
BEGIN:VEVENT
UID:3985@agenda24.fr
DTSTART;TZID=Europe/Paris:20241110T150000
DTEND;TZID=Europe/Paris:20241110T150000
DTSTAMP:20241030T091244Z
URL:https://agenda24.fr/evenements/spectacle-de-danse-indienne-kalpana/
SUMMARY:Spectacle de danse indienne - Kalpana
DESCRIPTION:
CATEGORIES:Spectacle
LOCATION:Le Séchoir d'Aillac\, 80 Pl. Haute\, Carsac-Aillac\, France
GEO:44.8424320;1.3010670
X-APPLE-STRUCTURED-LOCATION;VALUE=URI;X-ADDRESS=80 Pl. Haute\, Carsac-Ailla
 c\, France;X-APPLE-RADIUS=100;X-TITLE=Le Séchoir d'Aillac:geo:44.8424320,
 1.3010670
END:VEVENT
BEGIN:VTIMEZONE
TZID:Europe/Paris
X-LIC-LOCATION:Europe/Paris
BEGIN:STANDARD
DTSTART:20241027T020000
TZOFFSETFROM:+0200
TZOFFSETTO:+0100
TZNAME:CET
END:STANDARD
END:VTIMEZONE
END:VCALENDAR