BEGIN:VCALENDAR
VERSION:2.0
PRODID:-//wp-events-plugin.com//7.2.3.1//EN
TZID:Europe/Paris
X-WR-TIMEZONE:Europe/Paris
BEGIN:VEVENT
UID:5291@agenda24.fr
DTSTART;TZID=Europe/Paris:20250308T180000
DTEND;TZID=Europe/Paris:20250308T190000
DTSTAMP:20250213T102953Z
URL:https://agenda24.fr/evenements/spectacle-chez-pierrot/
SUMMARY:Spectacle – Chez Pierrot
DESCRIPTION:La Gargouille\n\nAndrée\, Gaston\, Isidore\, Edouard et Popaul
  attendent. Quoi ? Qui ? Le retour de Pierrot\, l’enfant prodigue parti 
 faire fortune en Australie.\nDans ce café parisien vieillot et délabré\
 , nous suivrons une journée de cette clique de parasites complètement ma
 rginalisés voire inadaptés qui n’ont pour horizon que le retour d’un
  sauveur…
CATEGORIES:Spectacle
LOCATION:Auditorium Espace François Mitterrand\, 23 Boulevard Henri Sicard
 \, Bergerac\, France
GEO:44.8449144;0.48019150
X-APPLE-STRUCTURED-LOCATION;VALUE=URI;X-ADDRESS=23 Boulevard Henri Sicard\,
  Bergerac\, France;X-APPLE-RADIUS=100;X-TITLE=Auditorium Espace François 
 Mitterrand:geo:44.8449144,0.48019150
END:VEVENT
BEGIN:VTIMEZONE
TZID:Europe/Paris
X-LIC-LOCATION:Europe/Paris
BEGIN:STANDARD
DTSTART:20241027T020000
TZOFFSETFROM:+0200
TZOFFSETTO:+0100
TZNAME:CET
END:STANDARD
END:VTIMEZONE
END:VCALENDAR