BEGIN:VCALENDAR
VERSION:2.0
PRODID:-//wp-events-plugin.com//7.2.3.1//EN
TZID:Europe/Paris
X-WR-TIMEZONE:Europe/Paris
BEGIN:VEVENT
UID:5309@agenda24.fr
DTSTART;TZID=Europe/Paris:20250223T143000
DTEND;TZID=Europe/Paris:20250223T143000
DTSTAMP:20250213T102943Z
URL:https://agenda24.fr/evenements/spectacle-cabaret-par-happy-folies-bien
 venue-a-bord/
SUMMARY:Spectacle cabaret par Happy Folie's – Bienvenue à bord
DESCRIPTION:Happy Folie's vous invite à une soirée spectacle cabaret ! Le
  rendez-vous est à la salle des fêtes à 20h30\, la réservation est obl
 igatoire par téléphone.\n\nVenez passer un moment MAGIQUE et PAILLETÉ e
 n famille ou entres amis avec le NOUVEAU SPECTACLE des Happy Folie’s.\n
CATEGORIES:Spectacle
LOCATION:Salle des fêtes\, Le bourg\, Lamonzie-Saint-Martin\, France
GEO:44.8420838;0.38186600
X-APPLE-STRUCTURED-LOCATION;VALUE=URI;X-ADDRESS=Le bourg\, Lamonzie-Saint-M
 artin\, France;X-APPLE-RADIUS=100;X-TITLE=Salle des fêtes:geo:44.8420838,
 0.38186600
END:VEVENT
BEGIN:VTIMEZONE
TZID:Europe/Paris
X-LIC-LOCATION:Europe/Paris
BEGIN:STANDARD
DTSTART:20241027T020000
TZOFFSETFROM:+0200
TZOFFSETTO:+0100
TZNAME:CET
END:STANDARD
END:VTIMEZONE
END:VCALENDAR