BEGIN:VCALENDAR
VERSION:2.0
PRODID:-//wp-events-plugin.com//7.2.3.1//EN
TZID:Europe/Paris
X-WR-TIMEZONE:Europe/Paris
BEGIN:VEVENT
UID:5619@agenda24.fr
DTSTART;TZID=Europe/Paris:20250504T000000
DTEND;TZID=Europe/Paris:20250504T000000
DTSTAMP:20250326T124206Z
URL:https://agenda24.fr/evenements/spectacle-avec-les-ogres-de-barback-et-
 leur-spectacle-sous-chapiteau-pitt-ocha-2/
SUMMARY:Spectacle avec les Ogres de Barback et leur spectacle sous chapitea
 u Pitt ocha
DESCRIPTION:LES OGRES DE BARBACK\nSAMEDI 3 ET DIMANCHE 4 MAI\n\nÀ ISSIGEAC
 \n\n&nbsp\;\n\nC'est une chance dingue et on remercie la Compagnie de La M
 oulinette du fond du cœur d'organiser ces deux jours de spectacle incroya
 ble avec les Ogres de Barback et leur spectacle sous chapiteau PittOcha !!
 !\n\n&nbsp\;\n\nPour vous faire une idée du spectacle\, cliquez par ici\n
 \nPour réserver (comme nous) votre place\, cliquez par là\n\n&nbsp\;\n\n
 Et si vous voulez les découvrir\, tous les livres-CD des aventures de Pit
 tOcha sont dans les rayons de La Mauvaise Herbe !\n\n
CATEGORIES:Spectacle
LOCATION:Cité médievale de Issigeac\, Parking de la Banège\, Issigeac\, 
 France
X-APPLE-STRUCTURED-LOCATION;VALUE=URI;X-ADDRESS=Parking de la Banège\, Iss
 igeac\, France;X-APPLE-RADIUS=100;X-TITLE=Cité médievale de Issigeac:geo
 :0,0
END:VEVENT
BEGIN:VTIMEZONE
TZID:Europe/Paris
X-LIC-LOCATION:Europe/Paris
BEGIN:DAYLIGHT
DTSTART:20250330T030000
TZOFFSETFROM:+0100
TZOFFSETTO:+0200
TZNAME:CEST
END:DAYLIGHT
END:VTIMEZONE
END:VCALENDAR