BEGIN:VCALENDAR
VERSION:2.0
PRODID:-//wp-events-plugin.com//7.2.3.1//EN
TZID:Europe/Paris
X-WR-TIMEZONE:Europe/Paris
BEGIN:VEVENT
UID:11863@agenda24.fr
DTSTART;TZID=Europe/Paris:20260308T110000
DTEND;TZID=Europe/Paris:20260308T123000
DTSTAMP:20260301T135836Z
URL:https://agenda24.fr/evenements/spectacle-7-minutes/
SUMMARY:Spectacle - 7 Minutes
DESCRIPTION:Alors que leur usine vient d’être rachetée\, une dizaine de
  femmes doivent prendre une décision au nom des deux cents employées qu
 ’elles représentent. Quel glas sonnent ces « 7 minutes » ? S’engage
  alors un thriller social qui ouvre une double réflexion sur la valeur ma
 rchande du travail et la prise de conscience des mécanismes de domination
 .\nSéance de 11h00 à la Bourse du Travail\nSéance de 15h00 à la média
 thèque Pierre Fanlac (Amphithéâtre Jean Moulin)
CATEGORIES:Spectacle
LOCATION:12 Avenue Georges Pompidou\, 12 Avenue Georges Pompidou\, Périgue
 ux\, France
GEO:45.1887248;0.72352489
X-APPLE-STRUCTURED-LOCATION;VALUE=URI;X-ADDRESS=12 Avenue Georges Pompidou\
 , Périgueux\, France;X-APPLE-RADIUS=100;X-TITLE=12 Avenue Georges Pompido
 u:geo:45.1887248,0.72352489
END:VEVENT
BEGIN:VTIMEZONE
TZID:Europe/Paris
X-LIC-LOCATION:Europe/Paris
BEGIN:STANDARD
DTSTART:20251026T020000
TZOFFSETFROM:+0200
TZOFFSETTO:+0100
TZNAME:CET
END:STANDARD
END:VTIMEZONE
END:VCALENDAR