BEGIN:VCALENDAR
VERSION:2.0
PRODID:-//wp-events-plugin.com//7.2.3.1//EN
TZID:Europe/Paris
X-WR-TIMEZONE:Europe/Paris
BEGIN:VEVENT
UID:11824@agenda24.fr
DTSTART;TZID=Europe/Paris:20260306T100000
DTEND;TZID=Europe/Paris:20260306T180000
DTSTAMP:20260301T135157Z
URL:https://agenda24.fr/evenements/sortie-apred/
SUMMARY:Sortie APRED
DESCRIPTION:Sortie au musée André Voulgre à Mussidan et visite du moulin
  de la Veyssière à Neuvic. Les deux visites sont guidées. Déjeuner au
  restaurant Kayola où un menu complet sera servi. Covoiturage possible. R
 éservation par paiement obligatoire.
CATEGORIES:Tourisme / Patrimoine
LOCATION:Saint-Estephe\, Saint-Estephe\, Saint-Estephe\, France
GEO:45.592387;0.664369
X-APPLE-STRUCTURED-LOCATION;VALUE=URI;X-ADDRESS=Saint-Estephe\, Saint-Estep
 he\, France;X-APPLE-RADIUS=100;X-TITLE=Saint-Estephe:geo:45.592387,0.66436
 9
END:VEVENT
BEGIN:VTIMEZONE
TZID:Europe/Paris
X-LIC-LOCATION:Europe/Paris
BEGIN:STANDARD
DTSTART:20251026T020000
TZOFFSETFROM:+0200
TZOFFSETTO:+0100
TZNAME:CET
END:STANDARD
END:VTIMEZONE
END:VCALENDAR