BEGIN:VCALENDAR
VERSION:2.0
PRODID:-//wp-events-plugin.com//7.2.3.1//EN
TZID:Europe/Paris
X-WR-TIMEZONE:Europe/Paris
BEGIN:VEVENT
UID:9734@agenda24.fr
DTSTART;TZID=Europe/Paris:20251122T203000
DTEND;TZID=Europe/Paris:20251122T203000
DTSTAMP:20251101T090450Z
URL:https://agenda24.fr/evenements/soiree-theatre-3/
SUMMARY:Soirée Théâtre
DESCRIPTION:La troupe de théâtre des Amicales Laïques de (24800) CHALAIS
  et SAINT-JORY-DE-CHALAIS vous invite à une représentation théâtrale p
 réparée avec l'aide de Lionel VIRET du théâtre de poche de THIVIERS\nB
 uvette Gâteaux Tombola
CATEGORIES:Spectacle
LOCATION:Salle des fêtes\, Salle des Fêtes\, Chalais\, France
GEO:45.5088174;0.9275704
X-APPLE-STRUCTURED-LOCATION;VALUE=URI;X-ADDRESS=Salle des Fêtes\, Chalais\
 , France;X-APPLE-RADIUS=100;X-TITLE=Salle des fêtes:geo:45.5088174,0.9275
 704
END:VEVENT
BEGIN:VTIMEZONE
TZID:Europe/Paris
X-LIC-LOCATION:Europe/Paris
BEGIN:STANDARD
DTSTART:20251026T020000
TZOFFSETFROM:+0200
TZOFFSETTO:+0100
TZNAME:CET
END:STANDARD
END:VTIMEZONE
END:VCALENDAR