BEGIN:VCALENDAR
VERSION:2.0
PRODID:-//wp-events-plugin.com//7.2.3.1//EN
TZID:Europe/Paris
X-WR-TIMEZONE:Europe/Paris
BEGIN:VEVENT
UID:9733@agenda24.fr
DTSTART;TZID=Europe/Paris:20251115T193000
DTEND;TZID=Europe/Paris:20251115T193000
DTSTAMP:20251101T090450Z
URL:https://agenda24.fr/evenements/soiree-spectacle-cabaret/
SUMMARY:Soirée spectacle-cabaret
DESCRIPTION:Soirée repas spectacle cabaret \nAnimée par la troupe LynShow
  à 19h30 à la salle des fêtes – Formule repas et spectacle : 30 € r
 èglement à la réservation- Solidarité Echourgnacoise – 06 59 58 95 1
 9\n
CATEGORIES:Spectacle
LOCATION:Salle des fêtes\, Salle des Fêtes\, Echourgnac\, France
GEO:45.12588;0.230227
X-APPLE-STRUCTURED-LOCATION;VALUE=URI;X-ADDRESS=Salle des Fêtes\, Echourgn
 ac\, France;X-APPLE-RADIUS=100;X-TITLE=Salle des fêtes:geo:45.12588,0.230
 227
END:VEVENT
BEGIN:VTIMEZONE
TZID:Europe/Paris
X-LIC-LOCATION:Europe/Paris
BEGIN:STANDARD
DTSTART:20251026T020000
TZOFFSETFROM:+0200
TZOFFSETTO:+0100
TZNAME:CET
END:STANDARD
END:VTIMEZONE
END:VCALENDAR