BEGIN:VCALENDAR
VERSION:2.0
PRODID:-//wp-events-plugin.com//7.2.3.1//EN
TZID:Europe/Paris
X-WR-TIMEZONE:Europe/Paris
BEGIN:VEVENT
UID:5253@agenda24.fr
DTSTART;TZID=Europe/Paris:20250301T200000
DTEND;TZID=Europe/Paris:20250301T200000
DTSTAMP:20250213T103013Z
URL:https://agenda24.fr/evenements/soiree-sbk-salsa-bachata-kizopmba/
SUMMARY:Soirée SBK - Salsa - Bachata - Kizopmba
DESCRIPTION:Andine présente la soirée SBK\, danses latines et tropicales.
 \nAprès une initiation au Kizomba avec Samira & Tahiana de 20h à 21h\, l
 a soirée sera animée à partir de 21h par Tahiana.\nBar à cocktail sur 
 place.\nLa soirée se déroulera en face d'Andine\, rue de l'Engin.
CATEGORIES:Soirées dansantes
LOCATION:Andine\, 5 Rue du Couvent\, Eymet\, France
GEO:44.6673381;0.39667594
X-APPLE-STRUCTURED-LOCATION;VALUE=URI;X-ADDRESS=5 Rue du Couvent\, Eymet\, 
 France;X-APPLE-RADIUS=100;X-TITLE=Andine:geo:44.6673381,0.39667594
END:VEVENT
BEGIN:VTIMEZONE
TZID:Europe/Paris
X-LIC-LOCATION:Europe/Paris
BEGIN:STANDARD
DTSTART:20241027T020000
TZOFFSETFROM:+0200
TZOFFSETTO:+0100
TZNAME:CET
END:STANDARD
END:VTIMEZONE
END:VCALENDAR