BEGIN:VCALENDAR
VERSION:2.0
PRODID:-//wp-events-plugin.com//7.2.3.1//EN
TZID:Europe/Paris
X-WR-TIMEZONE:Europe/Paris
BEGIN:VEVENT
UID:9732@agenda24.fr
DTSTART;TZID=Europe/Paris:20251206T193000
DTEND;TZID=Europe/Paris:20251206T193000
DTSTAMP:20251101T090450Z
URL:https://agenda24.fr/evenements/soiree-repas-theatre/
SUMMARY:Soirée repas - théâtre
DESCRIPTION:Repas théâtre à partir de 19h30 au foyer municipal organisé
  par l'association Fascia.
CATEGORIES:Spectacle
LOCATION:Foyer municipal\, Le Bourg\, Saint-Nexans\, France
GEO:44.7943564;0.5942081
X-APPLE-STRUCTURED-LOCATION;VALUE=URI;X-ADDRESS=Le Bourg\, Saint-Nexans\, F
 rance;X-APPLE-RADIUS=100;X-TITLE=Foyer municipal:geo:44.7943564,0.5942081
END:VEVENT
BEGIN:VTIMEZONE
TZID:Europe/Paris
X-LIC-LOCATION:Europe/Paris
BEGIN:STANDARD
DTSTART:20251026T020000
TZOFFSETFROM:+0200
TZOFFSETTO:+0100
TZNAME:CET
END:STANDARD
END:VTIMEZONE
END:VCALENDAR