BEGIN:VCALENDAR
VERSION:2.0
PRODID:-//wp-events-plugin.com//7.2.3.1//EN
TZID:Europe/Paris
X-WR-TIMEZONE:Europe/Paris
BEGIN:VEVENT
UID:5269@agenda24.fr
DTSTART;TZID=Europe/Paris:20250221T193000
DTEND;TZID=Europe/Paris:20250221T193000
DTSTAMP:20250213T103011Z
URL:https://agenda24.fr/evenements/soiree-musique-spectacle-avec-jean-loui
 s-et-bernard/
SUMMARY:Soirée musique/spectacle avec Jean-Louis et Bernard
DESCRIPTION:Rencontre harmonieuse entre deux musiciens : Jean-Louis Le Bret
 on auteur compositeur\, chanteur guitariste.  Paul Philipon-Dollet chanteu
 r contrebassiste. \nAutour d’un répertoire original où les mots ont du
  sens et l’énergie au rendez-vous. \nOn en redemande.\n\nRepas : bo bun
 \, salade vietnamienne\, nouilles de riz\, boeuf nems\, perles du Japon\, 
 mangue.
CATEGORIES:Spectacle
LOCATION:Café l'Imaginaire\, 4 rue du Pont\, Lalinde\, France
GEO:44.8361810;0.7399057
X-APPLE-STRUCTURED-LOCATION;VALUE=URI;X-ADDRESS=4 rue du Pont\, Lalinde\, F
 rance;X-APPLE-RADIUS=100;X-TITLE=Café l'Imaginaire:geo:44.8361810,0.73990
 57
END:VEVENT
BEGIN:VTIMEZONE
TZID:Europe/Paris
X-LIC-LOCATION:Europe/Paris
BEGIN:STANDARD
DTSTART:20241027T020000
TZOFFSETFROM:+0200
TZOFFSETTO:+0100
TZNAME:CET
END:STANDARD
END:VTIMEZONE
END:VCALENDAR