BEGIN:VCALENDAR
VERSION:2.0
PRODID:-//wp-events-plugin.com//7.2.3.1//EN
TZID:Europe/Paris
X-WR-TIMEZONE:Europe/Paris
BEGIN:VEVENT
UID:10213@agenda24.fr
DTSTART;TZID=Europe/Paris:20251212T190000
DTEND;TZID=Europe/Paris:20251212T220000
DTSTAMP:20251210T134244Z
URL:https://agenda24.fr/evenements/soiree-jeux-terraforming-mars/
SUMMARY:Soirée jeux Terraforming Mars
DESCRIPTION:L'ère de la domestication de Mars a commencé. Dans Terraformi
 ng Mars\, de puissantes corporations travaillent pour rendre la Planète R
 ouge habitable. La température\, l'oxygène et les océans sont les trois
  axes de développement principaux. Mais pour triompher\, il faudra aussi 
 construire des infrastructures pour les générations futures.\n
CATEGORIES:Evènement à thème
LOCATION:L'HanGare\, 19 Rue Pierre Semard\, Thiviers\, France
GEO:45.418247;0.92090089
X-APPLE-STRUCTURED-LOCATION;VALUE=URI;X-ADDRESS=19 Rue Pierre Semard\, Thiv
 iers\, France;X-APPLE-RADIUS=100;X-TITLE=L'HanGare:geo:45.418247,0.9209008
 9
END:VEVENT
BEGIN:VTIMEZONE
TZID:Europe/Paris
X-LIC-LOCATION:Europe/Paris
BEGIN:STANDARD
DTSTART:20251026T020000
TZOFFSETFROM:+0200
TZOFFSETTO:+0100
TZNAME:CET
END:STANDARD
END:VTIMEZONE
END:VCALENDAR