BEGIN:VCALENDAR
VERSION:2.0
PRODID:-//wp-events-plugin.com//7.2.3.1//EN
TZID:Europe/Paris
X-WR-TIMEZONE:Europe/Paris
BEGIN:VEVENT
UID:5904@agenda24.fr
DTSTART;TZID=Europe/Paris:20250411T183000
DTEND;TZID=Europe/Paris:20250411T213000
DTSTAMP:20250326T140705Z
URL:https://agenda24.fr/evenements/soiree-jeux-en-famille/
SUMMARY:Soirée jeux en famille
DESCRIPTION:Venez passer en famille\, à partir de 8 ans\, un moment de par
 tage et de bonne humeur ! Nos jeux de société préférés seront à l’
 honneur\, venez les découvrir et n’oubliez pas\, nous partagerons aussi
  de quoi grignoter\, des boissons (sans alcool) et votre jeu préféré ! 
 Apportez ce que vous aimez !
CATEGORIES:Jeux
LOCATION:Ludothèque\, Place Bellegarde\, Bergerac\, France
GEO:44.8524056;0.48143072
X-APPLE-STRUCTURED-LOCATION;VALUE=URI;X-ADDRESS=Place Bellegarde\, Bergerac
 \, France;X-APPLE-RADIUS=100;X-TITLE=Ludothèque:geo:44.8524056,0.48143072
END:VEVENT
BEGIN:VTIMEZONE
TZID:Europe/Paris
X-LIC-LOCATION:Europe/Paris
BEGIN:DAYLIGHT
DTSTART:20250330T030000
TZOFFSETFROM:+0100
TZOFFSETTO:+0200
TZNAME:CEST
END:DAYLIGHT
END:VTIMEZONE
END:VCALENDAR