BEGIN:VCALENDAR
VERSION:2.0
PRODID:-//wp-events-plugin.com//7.2.3.1//EN
TZID:Europe/Paris
X-WR-TIMEZONE:Europe/Paris
BEGIN:VEVENT
UID:5903@agenda24.fr
DTSTART;TZID=Europe/Paris:20250427T183000
DTEND;TZID=Europe/Paris:20250427T183000
DTSTAMP:20250326T140705Z
URL:https://agenda24.fr/evenements/soiree-jeux-de-role/
SUMMARY:Soirée jeux de rôle
DESCRIPTION:Animée par l'association Les Rôlistes du Périgord Pourpre\nA
 pportez vos grignottes et boissons (sans alcool)
CATEGORIES:Jeux
LOCATION:Ludothèque\, Place Bellegarde\, Bergerac\, France
GEO:44.8524056;0.48143072
X-APPLE-STRUCTURED-LOCATION;VALUE=URI;X-ADDRESS=Place Bellegarde\, Bergerac
 \, France;X-APPLE-RADIUS=100;X-TITLE=Ludothèque:geo:44.8524056,0.48143072
END:VEVENT
BEGIN:VTIMEZONE
TZID:Europe/Paris
X-LIC-LOCATION:Europe/Paris
BEGIN:DAYLIGHT
DTSTART:20250330T030000
TZOFFSETFROM:+0100
TZOFFSETTO:+0200
TZNAME:CEST
END:DAYLIGHT
END:VTIMEZONE
END:VCALENDAR