BEGIN:VCALENDAR
VERSION:2.0
PRODID:-//wp-events-plugin.com//7.2.3.1//EN
TZID:Europe/Paris
X-WR-TIMEZONE:Europe/Paris
BEGIN:VEVENT
UID:5902@agenda24.fr
DTSTART;TZID=Europe/Paris:20250328T190000
DTEND;TZID=Europe/Paris:20250328T220000
DTSTAMP:20250326T140705Z
URL:https://agenda24.fr/evenements/soiree-jeux-19/
SUMMARY:Soirée jeux
DESCRIPTION:Venez nous faire découvrir vos jeux préférés !\n\nChacun ap
 porte un plat sucré-salé ou une boisson à partager
CATEGORIES:Jeux
LOCATION:Ludothèque\, rue albert theulier\, Thiviers\, France
GEO:45.4172494;0.9205272
X-APPLE-STRUCTURED-LOCATION;VALUE=URI;X-ADDRESS=rue albert theulier\, Thivi
 ers\, France;X-APPLE-RADIUS=100;X-TITLE=Ludothèque:geo:45.4172494,0.92052
 72
END:VEVENT
BEGIN:VTIMEZONE
TZID:Europe/Paris
X-LIC-LOCATION:Europe/Paris
BEGIN:STANDARD
DTSTART:20241027T020000
TZOFFSETFROM:+0200
TZOFFSETTO:+0100
TZNAME:CET
END:STANDARD
END:VTIMEZONE
END:VCALENDAR