BEGIN:VCALENDAR
VERSION:2.0
PRODID:-//wp-events-plugin.com//7.2.3.1//EN
TZID:Europe/Paris
X-WR-TIMEZONE:Europe/Paris
BEGIN:VEVENT
UID:4444@agenda24.fr
DTSTART;TZID=Europe/Paris:20250124T203000
DTEND;TZID=Europe/Paris:20250124T203000
DTSTAMP:20241214T154212Z
URL:https://agenda24.fr/evenements/soiree-jeux-14/
SUMMARY:Soirée jeux
DESCRIPTION:
CATEGORIES:Jeux
LOCATION:MIC\, Place du 8 mai 1945\, Saint-Martial-D'artenset\, France
GEO:45.01607;0.20485
X-APPLE-STRUCTURED-LOCATION;VALUE=URI;X-ADDRESS=Place du 8 mai 1945\, Saint
 -Martial-D'artenset\, France;X-APPLE-RADIUS=100;X-TITLE=MIC:geo:45.01607,0
 .20485
END:VEVENT
BEGIN:VTIMEZONE
TZID:Europe/Paris
X-LIC-LOCATION:Europe/Paris
BEGIN:STANDARD
DTSTART:20241027T020000
TZOFFSETFROM:+0200
TZOFFSETTO:+0100
TZNAME:CET
END:STANDARD
END:VTIMEZONE
END:VCALENDAR