BEGIN:VCALENDAR
VERSION:2.0
PRODID:-//wp-events-plugin.com//7.2.3.1//EN
TZID:Europe/Paris
X-WR-TIMEZONE:Europe/Paris
BEGIN:VEVENT
UID:3902@agenda24.fr
DTSTART;TZID=Europe/Paris:20241115T193000
DTEND;TZID=Europe/Paris:20241115T210000
DTSTAMP:20241030T085618Z
URL:https://agenda24.fr/evenements/soiree-jeu-qui-veut-gagner-des-bouchons
 -3/
SUMMARY:Soirée jeu Qui veut gagner des bouchons ?
DESCRIPTION:
CATEGORIES:Jeux
LOCATION:Quai Cyrano\, 1 Rue des Récollets\, Bergerac\, France
GEO:44.8501100;0.48262172
X-APPLE-STRUCTURED-LOCATION;VALUE=URI;X-ADDRESS=1 Rue des Récollets\, Berg
 erac\, France;X-APPLE-RADIUS=100;X-TITLE=Quai Cyrano:geo:44.8501100,0.4826
 2172
END:VEVENT
BEGIN:VTIMEZONE
TZID:Europe/Paris
X-LIC-LOCATION:Europe/Paris
BEGIN:STANDARD
DTSTART:20241027T020000
TZOFFSETFROM:+0200
TZOFFSETTO:+0100
TZNAME:CET
END:STANDARD
END:VTIMEZONE
END:VCALENDAR