BEGIN:VCALENDAR
VERSION:2.0
PRODID:-//wp-events-plugin.com//7.2.3.1//EN
TZID:Europe/Paris
X-WR-TIMEZONE:Europe/Paris
BEGIN:VEVENT
UID:3861@agenda24.fr
DTSTART;TZID=Europe/Paris:20241108T190000
DTEND;TZID=Europe/Paris:20241108T190000
DTSTAMP:20241030T085652Z
URL:https://agenda24.fr/evenements/soiree-halloween/
SUMMARY:Soirée Halloween
DESCRIPTION:
CATEGORIES:Evènement à thème
LOCATION:Salle des fêtes de Jaure\, Salle des fêtes de Jaure\, Jaure\, Fr
 ance
GEO:45.0564662;0.55344363
X-APPLE-STRUCTURED-LOCATION;VALUE=URI;X-ADDRESS=Salle des fêtes de Jaure\,
  Jaure\, France;X-APPLE-RADIUS=100;X-TITLE=Salle des fêtes de Jaure:geo:4
 5.0564662,0.55344363
END:VEVENT
BEGIN:VTIMEZONE
TZID:Europe/Paris
X-LIC-LOCATION:Europe/Paris
BEGIN:STANDARD
DTSTART:20241027T020000
TZOFFSETFROM:+0200
TZOFFSETTO:+0100
TZNAME:CET
END:STANDARD
END:VTIMEZONE
END:VCALENDAR