BEGIN:VCALENDAR
VERSION:2.0
PRODID:-//wp-events-plugin.com//7.2.3.1//EN
TZID:Europe/Paris
X-WR-TIMEZONE:Europe/Paris
BEGIN:VEVENT
UID:3879@agenda24.fr
DTSTART;TZID=Europe/Paris:20241031T203000
DTEND;TZID=Europe/Paris:20241031T203000
DTSTAMP:20241030T085627Z
URL:https://agenda24.fr/evenements/soiree-halloween-dansante-a-journiac/
SUMMARY:Soirée Halloween dansante à Journiac
DESCRIPTION:
CATEGORIES:Evènement à thème
LOCATION:Salle des fêtes de Journiac\, Le bourg\, Journiac\, France
GEO:44.9657158;0.88451284
X-APPLE-STRUCTURED-LOCATION;VALUE=URI;X-ADDRESS=Le bourg\, Journiac\, Franc
 e;X-APPLE-RADIUS=100;X-TITLE=Salle des fêtes de Journiac:geo:44.9657158,0
 .88451284
END:VEVENT
BEGIN:VTIMEZONE
TZID:Europe/Paris
X-LIC-LOCATION:Europe/Paris
BEGIN:STANDARD
DTSTART:20241027T020000
TZOFFSETFROM:+0200
TZOFFSETTO:+0100
TZNAME:CET
END:STANDARD
END:VTIMEZONE
END:VCALENDAR