BEGIN:VCALENDAR
VERSION:2.0
PRODID:-//wp-events-plugin.com//7.2.3.1//EN
TZID:Europe/Paris
X-WR-TIMEZONE:Europe/Paris
BEGIN:VEVENT
UID:3893@agenda24.fr
DTSTART;TZID=Europe/Paris:20241031T190000
DTEND;TZID=Europe/Paris:20241031T190000
DTSTAMP:20241030T085618Z
URL:https://agenda24.fr/evenements/soiree-halloween-au-regal-a-salignac-ey
 vigues/
SUMMARY:Soirée Halloween au Regal à Salignac Eyvigues
DESCRIPTION:
CATEGORIES:Evènement à thème
LOCATION:Le Regal\, 20 avenue de Sarlat\, Salignac-Eyvigues\, France
GEO:44.9739907;1.31992151
X-APPLE-STRUCTURED-LOCATION;VALUE=URI;X-ADDRESS=20 avenue de Sarlat\, Salig
 nac-Eyvigues\, France;X-APPLE-RADIUS=100;X-TITLE=Le Regal:geo:44.9739907,1
 .31992151
END:VEVENT
BEGIN:VTIMEZONE
TZID:Europe/Paris
X-LIC-LOCATION:Europe/Paris
BEGIN:STANDARD
DTSTART:20241027T020000
TZOFFSETFROM:+0200
TZOFFSETTO:+0100
TZNAME:CET
END:STANDARD
END:VTIMEZONE
END:VCALENDAR