BEGIN:VCALENDAR
VERSION:2.0
PRODID:-//wp-events-plugin.com//7.2.3.1//EN
TZID:Europe/Paris
X-WR-TIMEZONE:Europe/Paris
BEGIN:VEVENT
UID:9672@agenda24.fr
DTSTART;TZID=Europe/Paris:20251122T190000
DTEND;TZID=Europe/Paris:20251122T190000
DTSTAMP:20251101T090409Z
URL:https://agenda24.fr/evenements/soiree-espagnole-2/
SUMMARY:Soirée espagnole
DESCRIPTION:Démonstration de flamenco. \n20€ par adulte  & 10€ par enf
 ant (moins de 12 ans).
CATEGORIES:Soirées dansantes
LOCATION:Salle des fêtes\, Salle des fêtes\, Quinsac\, France
GEO:45.429307;0.70399
X-APPLE-STRUCTURED-LOCATION;VALUE=URI;X-ADDRESS=Salle des fêtes\, Quinsac\
 , France;X-APPLE-RADIUS=100;X-TITLE=Salle des fêtes:geo:45.429307,0.70399
END:VEVENT
BEGIN:VTIMEZONE
TZID:Europe/Paris
X-LIC-LOCATION:Europe/Paris
BEGIN:STANDARD
DTSTART:20251026T020000
TZOFFSETFROM:+0200
TZOFFSETTO:+0100
TZNAME:CET
END:STANDARD
END:VTIMEZONE
END:VCALENDAR