BEGIN:VCALENDAR
VERSION:2.0
PRODID:-//wp-events-plugin.com//7.2.3.1//EN
TZID:Europe/Paris
X-WR-TIMEZONE:Europe/Paris
BEGIN:VEVENT
UID:3894@agenda24.fr
DTSTART;TZID=Europe/Paris:20241116T193000
DTEND;TZID=Europe/Paris:20241116T193000
DTSTAMP:20241030T085626Z
URL:https://agenda24.fr/evenements/soiree-du-village/
SUMMARY:Soirée du village
DESCRIPTION:
CATEGORIES:Evènement à thème
LOCATION:Salle des fêtes\, Salle des fêtes\, Beaumontois en Périgord\, F
 rance
GEO:44.74259;0.79747
X-APPLE-STRUCTURED-LOCATION;VALUE=URI;X-ADDRESS=Salle des fêtes\, Beaumont
 ois en Périgord\, France;X-APPLE-RADIUS=100;X-TITLE=Salle des fêtes:geo:
 44.74259,0.79747
END:VEVENT
BEGIN:VTIMEZONE
TZID:Europe/Paris
X-LIC-LOCATION:Europe/Paris
BEGIN:STANDARD
DTSTART:20241027T020000
TZOFFSETFROM:+0200
TZOFFSETTO:+0100
TZNAME:CET
END:STANDARD
END:VTIMEZONE
END:VCALENDAR