BEGIN:VCALENDAR
VERSION:2.0
PRODID:-//wp-events-plugin.com//7.2.3.1//EN
TZID:Europe/Paris
X-WR-TIMEZONE:Europe/Paris
BEGIN:VEVENT
UID:4041@agenda24.fr
DTSTART;TZID=Europe/Paris:20241115T203000
DTEND;TZID=Europe/Paris:20241115T203000
DTSTAMP:20241030T091139Z
URL:https://agenda24.fr/evenements/soiree-douverture-du-15eme-festival-du-
 film-documenterre/
SUMMARY:Soirée d'ouverture du 15ème Festival du film DocumenTerre
DESCRIPTION:
CATEGORIES:Cinéma
LOCATION:Cinéma Vox\, Place Bertran de Born\, Montignac\, France
GEO:45.06397;1.16333
X-APPLE-STRUCTURED-LOCATION;VALUE=URI;X-ADDRESS=Place Bertran de Born\, Mon
 tignac\, France;X-APPLE-RADIUS=100;X-TITLE=Cinéma Vox:geo:45.06397,1.1633
 3
END:VEVENT
BEGIN:VTIMEZONE
TZID:Europe/Paris
X-LIC-LOCATION:Europe/Paris
BEGIN:STANDARD
DTSTART:20241027T020000
TZOFFSETFROM:+0200
TZOFFSETTO:+0100
TZNAME:CET
END:STANDARD
END:VTIMEZONE
END:VCALENDAR