BEGIN:VCALENDAR
VERSION:2.0
PRODID:-//wp-events-plugin.com//7.2.3.1//EN
TZID:Europe/Paris
X-WR-TIMEZONE:Europe/Paris
BEGIN:VEVENT
UID:11875@agenda24.fr
DTSTART;TZID=Europe/Paris:20260321T193000
DTEND;TZID=Europe/Paris:20260321T193000
DTSTAMP:20260301T135836Z
URL:https://agenda24.fr/evenements/soiree-diner-theatre-une-femme-ideale/
SUMMARY:Soirée Diner - Théâtre | Une femme idéale !?!
DESCRIPTION:L'association Fascia propose une nouvelle pièce de théâtre i
 ntitulée "Une femme idéale !?!". \nCette comédie mélange le comique de
  situation et le comique de mœurs\, vous permettant de rire franchement e
 t intelligemment\, et dans laquelle les rebondissements éclatent jusqu’
 à la fin\, ce qui vous tiendra en haleine tout au long du spectacle. \n\n
 Comédie avec Pascale Binczak\, Véro Chauveau-Laforêt et Olivier Vallejo
 .\nMise en scène par Annie Goutière\n\nLa Grange de Zacharie vous propos
 e de diner sur place avant le spectacle pour passer une bonne soirée plei
 ne d'humour et de gourmandise !\n\nSur réservation.\n\nToutes les dates e
 n cliquant sur "Plus d'informations".
CATEGORIES:Spectacle
LOCATION:Grange de Zacharie\, 158 Route de Castillonès\, Saint-Leon-D'issi
 geac\, France
GEO:44.7192433;0.68984359
X-APPLE-STRUCTURED-LOCATION;VALUE=URI;X-ADDRESS=158 Route de Castillonès\,
  Saint-Leon-D'issigeac\, France;X-APPLE-RADIUS=100;X-TITLE=Grange de Zacha
 rie:geo:44.7192433,0.68984359
END:VEVENT
BEGIN:VTIMEZONE
TZID:Europe/Paris
X-LIC-LOCATION:Europe/Paris
BEGIN:STANDARD
DTSTART:20251026T020000
TZOFFSETFROM:+0200
TZOFFSETTO:+0100
TZNAME:CET
END:STANDARD
END:VTIMEZONE
END:VCALENDAR