BEGIN:VCALENDAR
VERSION:2.0
PRODID:-//wp-events-plugin.com//7.2.3.1//EN
TZID:Europe/Paris
X-WR-TIMEZONE:Europe/Paris
BEGIN:VEVENT
UID:3856@agenda24.fr
DTSTART;TZID=Europe/Paris:20241102T201500
DTEND;TZID=Europe/Paris:20241102T201500
DTSTAMP:20241030T085653Z
URL:https://agenda24.fr/evenements/soiree-dhalloween-chateau-de-bridoire-3
 /
SUMMARY:Soirée d'Halloween - Château de Bridoire
DESCRIPTION:
CATEGORIES:Dédié aux enfants
LOCATION:Château de Bridoire\, Bridoire\, Ribagnac\, France
GEO:44.7680556;0.4587477
X-APPLE-STRUCTURED-LOCATION;VALUE=URI;X-ADDRESS=Bridoire\, Ribagnac\, Franc
 e;X-APPLE-RADIUS=100;X-TITLE=Château de Bridoire:geo:44.7680556,0.4587477
END:VEVENT
BEGIN:VTIMEZONE
TZID:Europe/Paris
X-LIC-LOCATION:Europe/Paris
BEGIN:STANDARD
DTSTART:20241027T020000
TZOFFSETFROM:+0200
TZOFFSETTO:+0100
TZNAME:CET
END:STANDARD
END:VTIMEZONE
END:VCALENDAR