BEGIN:VCALENDAR
VERSION:2.0
PRODID:-//wp-events-plugin.com//7.2.3.1//EN
TZID:Europe/Paris
X-WR-TIMEZONE:Europe/Paris
BEGIN:VEVENT
UID:4495@agenda24.fr
DTSTART;TZID=Europe/Paris:20241213T193000
DTEND;TZID=Europe/Paris:20241213T230000
DTSTAMP:20241214T154146Z
URL:https://agenda24.fr/evenements/soiree-dexception-cendrillon-microfolie
 -de-saint-aulaye/
SUMMARY:Soirée d'exception "Cendrillon"- Microfolie de Saint-Aulaye
DESCRIPTION:
CATEGORIES:Spectacle
LOCATION:Microfolie\, Microfolie\, Saint-Aulaye\, France
GEO:45.2028842;0.13270743
X-APPLE-STRUCTURED-LOCATION;VALUE=URI;X-ADDRESS=Microfolie\, Saint-Aulaye\,
  France;X-APPLE-RADIUS=100;X-TITLE=Microfolie:geo:45.2028842,0.13270743
END:VEVENT
BEGIN:VTIMEZONE
TZID:Europe/Paris
X-LIC-LOCATION:Europe/Paris
BEGIN:STANDARD
DTSTART:20241027T020000
TZOFFSETFROM:+0200
TZOFFSETTO:+0100
TZNAME:CET
END:STANDARD
END:VTIMEZONE
END:VCALENDAR