BEGIN:VCALENDAR
VERSION:2.0
PRODID:-//wp-events-plugin.com//7.2.3.1//EN
TZID:Europe/Paris
X-WR-TIMEZONE:Europe/Paris
BEGIN:VEVENT
UID:9671@agenda24.fr
DTSTART;TZID=Europe/Paris:20251129T120000
DTEND;TZID=Europe/Paris:20251129T120000
DTSTAMP:20251101T090409Z
URL:https://agenda24.fr/evenements/soiree-dansante-12/
SUMMARY:Soirée dansante
DESCRIPTION:Menu : punch et toasts\, potage velouté\, foie gras\, trou ast
 érien\, tournedos de canard\, écrasé de pommes de terre et tomates\, sa
 lade\, fromage\, bûche glacée\, vin\, café.\n\n12h\, salle des fêtes. 
 33 €. Sur réservation.\n\nClub des Aînés Ruraux 06 07 76 91 54
CATEGORIES:Soirées dansantes
LOCATION:Salle des fêtes\, rue Emmanuel Dupuy\, Saint-Astier\, France
GEO:45.1429463;0.5278108
X-APPLE-STRUCTURED-LOCATION;VALUE=URI;X-ADDRESS=rue Emmanuel Dupuy\, Saint-
 Astier\, France;X-APPLE-RADIUS=100;X-TITLE=Salle des fêtes:geo:45.1429463
 ,0.5278108
END:VEVENT
BEGIN:VTIMEZONE
TZID:Europe/Paris
X-LIC-LOCATION:Europe/Paris
BEGIN:STANDARD
DTSTART:20251026T020000
TZOFFSETFROM:+0200
TZOFFSETTO:+0100
TZNAME:CET
END:STANDARD
END:VTIMEZONE
END:VCALENDAR