BEGIN:VCALENDAR
VERSION:2.0
PRODID:-//wp-events-plugin.com//7.2.3.1//EN
TZID:Europe/Paris
X-WR-TIMEZONE:Europe/Paris
BEGIN:VEVENT
UID:9670@agenda24.fr
DTSTART;TZID=Europe/Paris:20251115T200000
DTEND;TZID=Europe/Paris:20251115T200000
DTSTAMP:20251101T090409Z
URL:https://agenda24.fr/evenements/soiree-dansante-11/
SUMMARY:Soirée dansante
DESCRIPTION:\nProg a venir
CATEGORIES:Soirées dansantes
LOCATION:Salle La Pépite\, D78\, Jumilhac-le-Grand\, France
GEO:45.4962426;1.07310854
X-APPLE-STRUCTURED-LOCATION;VALUE=URI;X-ADDRESS=D78\, Jumilhac-le-Grand\, F
 rance;X-APPLE-RADIUS=100;X-TITLE=Salle La Pépite:geo:45.4962426,1.0731085
 4
END:VEVENT
BEGIN:VTIMEZONE
TZID:Europe/Paris
X-LIC-LOCATION:Europe/Paris
BEGIN:STANDARD
DTSTART:20251026T020000
TZOFFSETFROM:+0200
TZOFFSETTO:+0100
TZNAME:CET
END:STANDARD
END:VTIMEZONE
END:VCALENDAR