BEGIN:VCALENDAR
VERSION:2.0
PRODID:-//wp-events-plugin.com//7.2.3.1//EN
TZID:Europe/Paris
X-WR-TIMEZONE:Europe/Paris
BEGIN:VEVENT
UID:11828@agenda24.fr
DTSTART;TZID=Europe/Paris:20260314T203000
DTEND;TZID=Europe/Paris:20260314T203000
DTSTAMP:20260301T135157Z
URL:https://agenda24.fr/evenements/soiree-contes-avec-daniel-chavaroche/
SUMMARY:Soirée Contes avec Daniel CHAVAROCHE
DESCRIPTION:Soirée Contes samedi 14 mars ""Ceux de Canteloube"" : Est-il e
 ncore nécessaire de présenter Daniel Chavaroche célèbre conteur de Pay
 s comme il se définit?Ce soir là vous ferez connaissance avec ceux de Ca
 nteloube les habitants de ce village du Périgord .\nentrée 12 € (15€
  non adhérents ADH) infos et réservations au 06 78 34 63 61 \n
CATEGORIES:Tourisme / Patrimoine
LOCATION:Cenac-et-Saint-Julien\, Cenac-et-Saint-Julien\, Cenac-et-Saint-Jul
 ien\, France
GEO:44.7833361;1.2073261
X-APPLE-STRUCTURED-LOCATION;VALUE=URI;X-ADDRESS=Cenac-et-Saint-Julien\, Cen
 ac-et-Saint-Julien\, France;X-APPLE-RADIUS=100;X-TITLE=Cenac-et-Saint-Juli
 en:geo:44.7833361,1.2073261
END:VEVENT
BEGIN:VTIMEZONE
TZID:Europe/Paris
X-LIC-LOCATION:Europe/Paris
BEGIN:STANDARD
DTSTART:20251026T020000
TZOFFSETFROM:+0200
TZOFFSETTO:+0100
TZNAME:CET
END:STANDARD
END:VTIMEZONE
END:VCALENDAR