BEGIN:VCALENDAR
VERSION:2.0
PRODID:-//wp-events-plugin.com//7.2.3.1//EN
TZID:Europe/Paris
X-WR-TIMEZONE:Europe/Paris
BEGIN:VEVENT
UID:4465@agenda24.fr
DTSTART;TZID=Europe/Paris:20241214T190000
DTEND;TZID=Europe/Paris:20241214T190000
DTSTAMP:20241214T154100Z
URL:https://agenda24.fr/evenements/soiree-castelhatre-jeux-de-theatre-et-r
 epas/
SUMMARY:Soirée Castel'hâtre - jeux de théâtre et repas
DESCRIPTION:
CATEGORIES:Spectacle
LOCATION:Salle de l'ancienne école\, Salle de l'ancienne école\, Castelna
 ud-La-Chapelle\, France
GEO:44.8149147;1.14851372
X-APPLE-STRUCTURED-LOCATION;VALUE=URI;X-ADDRESS=Salle de l'ancienne école\
 , Castelnaud-La-Chapelle\, France;X-APPLE-RADIUS=100;X-TITLE=Salle de l'an
 cienne école:geo:44.8149147,1.14851372
END:VEVENT
BEGIN:VTIMEZONE
TZID:Europe/Paris
X-LIC-LOCATION:Europe/Paris
BEGIN:STANDARD
DTSTART:20241027T020000
TZOFFSETFROM:+0200
TZOFFSETTO:+0100
TZNAME:CET
END:STANDARD
END:VTIMEZONE
END:VCALENDAR