BEGIN:VCALENDAR
VERSION:2.0
PRODID:-//wp-events-plugin.com//7.2.3.1//EN
TZID:Europe/Paris
X-WR-TIMEZONE:Europe/Paris
BEGIN:VEVENT
UID:4497@agenda24.fr
DTSTART;TZID=Europe/Paris:20241213T190000
DTEND;TZID=Europe/Paris:20241213T190000
DTSTAMP:20241214T154050Z
URL:https://agenda24.fr/evenements/soiree-cafe-theatre-le-richelieu/
SUMMARY:Soirée Café -Théâtre | Le Richelieu
DESCRIPTION:
CATEGORIES:Spectacle
LOCATION:Le Richelieu\, 23 Rue des Conférences\, Bergerac\, France
GEO:44.85082;0.483
X-APPLE-STRUCTURED-LOCATION;VALUE=URI;X-ADDRESS=23 Rue des Conférences\, B
 ergerac\, France;X-APPLE-RADIUS=100;X-TITLE=Le Richelieu:geo:44.85082,0.48
 3
END:VEVENT
BEGIN:VTIMEZONE
TZID:Europe/Paris
X-LIC-LOCATION:Europe/Paris
BEGIN:STANDARD
DTSTART:20241027T020000
TZOFFSETFROM:+0200
TZOFFSETTO:+0100
TZNAME:CET
END:STANDARD
END:VTIMEZONE
END:VCALENDAR