BEGIN:VCALENDAR
VERSION:2.0
PRODID:-//wp-events-plugin.com//7.2.3.1//EN
TZID:Europe/Paris
X-WR-TIMEZONE:Europe/Paris
BEGIN:VEVENT
UID:5302@agenda24.fr
DTSTART;TZID=Europe/Paris:20250314T190000
DTEND;TZID=Europe/Paris:20250314T190000
DTSTAMP:20250213T102953Z
URL:https://agenda24.fr/evenements/soiree-cafe-theatre-le-richelieu-6/
SUMMARY:Soirée Café -Théâtre - Le Richelieu
DESCRIPTION:Vendredi 14 mars 2025\, le restaurant Le Richelieu reçoit les 
 Acteurs Pourpres et vous propose une soirée exceptionnelle de café-thé
 âtre. \n\nAu programme : repas et une quinzaine de sketches en cascade\, 
 diffusés entre les plats.\n\n\nMenu du terroir :\n4 entrées au choix\n5 
 plats au choix\n5 desserts au choix\n
CATEGORIES:Spectacle
LOCATION:Le Richelieu\, 23 Rue des Conférences\, Bergerac\, France
GEO:44.85082;0.483
X-APPLE-STRUCTURED-LOCATION;VALUE=URI;X-ADDRESS=23 Rue des Conférences\, B
 ergerac\, France;X-APPLE-RADIUS=100;X-TITLE=Le Richelieu:geo:44.85082,0.48
 3
END:VEVENT
BEGIN:VTIMEZONE
TZID:Europe/Paris
X-LIC-LOCATION:Europe/Paris
BEGIN:STANDARD
DTSTART:20241027T020000
TZOFFSETFROM:+0200
TZOFFSETTO:+0100
TZNAME:CET
END:STANDARD
END:VTIMEZONE
END:VCALENDAR